BEGIN:VCALENDAR
VERSION:2.0
PRODID:-//Mahavira - ECPv6.15.17//NONSGML v1.0//EN
CALSCALE:GREGORIAN
METHOD:PUBLISH
X-WR-CALNAME:Mahavira
X-ORIGINAL-URL:https://mahaviragrha.com/id/
X-WR-CALDESC:Events for Mahavira
REFRESH-INTERVAL;VALUE=DURATION:PT1H
X-Robots-Tag:noindex
X-PUBLISHED-TTL:PT1H
BEGIN:VTIMEZONE
TZID:Asia/Jakarta
BEGIN:STANDARD
TZOFFSETFROM:+0700
TZOFFSETTO:+0700
TZNAME:WIB
DTSTART:20220101T000000
END:STANDARD
END:VTIMEZONE
BEGIN:VEVENT
DTSTART;TZID=Asia/Jakarta:20230417T083000
DTEND;TZID=Asia/Jakarta:20230419T083000
DTSTAMP:20260421T053348
CREATED:20230324T134939Z
LAST-MODIFIED:20230324T134939Z
UID:8255-1681720200-1681893000@mahaviragrha.com
SUMMARY:Upacara Keselamatan Ratna Kshamayati Liang Huang
DESCRIPTION:Upacara Keselamatan Ratna Kshamayati Liang Huang\nSenin – Rabu\, 17 – 19 April 2023 | 08.30 AM \nuntuk informasi lebih lanjut dapat menghubungi :\n081500254421 (Suhu Chang Zhen)\n081319615007 (Suhu Chuan Fu)
URL:https://mahaviragrha.com/id/event/upacara-keselamatan-ratna-kshamayati-liang-huang/
LOCATION:Mahakaruna Buddhist Center Medan\, Komplek Cemara Abadi Jl. Haji Anif Simpang BW\, Medan Estate\, Kec. Percut Sei Tuan\, Kabupaten Deli Serdang\, Sumatera Utara 20372\, Medan Estate\, Kec. Percut Sei Tuan\, Kabupaten Deli Serdang\,\, Sumatera Utara\, 20372\, Indonesia
CATEGORIES:All,Medan
ATTACH;FMTTYPE=image/jpeg:https://mahaviragrha.com/wp-content/uploads/2023/03/liang-huang-medan-2023.jpg
ORGANIZER;CN="%E5%8D%B0%E5%B0%BC%E4%BD%9B%E6%95%99%E4%B8%AD%E5%BF%83%E5%8D%94%E6%9C%83 - Indonesian Buddhist Center Association":MAILTO:mahavira_web@yahoo.com
END:VEVENT
BEGIN:VEVENT
DTSTART;TZID=Asia/Jakarta:20230413T083000
DTEND;TZID=Asia/Jakarta:20230415T083000
DTSTAMP:20260421T053348
CREATED:20230326T085913Z
LAST-MODIFIED:20230326T085913Z
UID:8307-1681374600-1681547400@mahaviragrha.com
SUMMARY:Upacara Keselamatan Ratna Kshamayati Liang Huang Beeh Low See Temple
DESCRIPTION:Upacara Keselamatan Ratna Kshamayati Liang Huang\nSenin – Rabu\, 13 – 15 April 2023 | 08.30 AM \nuntuk informasi lebih lanjut dapat menghubungi Sekretariat Wihara pada jam Kerja di :\n(+65)64662288 (Beeh Low See Temple – Singapore)
URL:https://mahaviragrha.com/id/event/2023-04-13-sg-liang-huang/
LOCATION:Beeh Low See Temple\, Singapore
CATEGORIES:All,Singapore
ATTACH;FMTTYPE=image/jpeg:https://mahaviragrha.com/wp-content/uploads/2023/03/LIANG-HUANG-SG-2023.jpeg
END:VEVENT
BEGIN:VEVENT
DTSTART;TZID=Asia/Jakarta:20230407T083000
DTEND;TZID=Asia/Jakarta:20230409T203000
DTSTAMP:20260421T053348
CREATED:20230324T135105Z
LAST-MODIFIED:20230324T135105Z
UID:8258-1680856200-1681072200@mahaviragrha.com
SUMMARY:Hari Besar Cheng Beng Upacara Keselamatan Ratna Kshamayati Liang Huang
DESCRIPTION:Hari Besar Cheng Beng Upacara Keselamatan Ratna Kshamayati Liang Huang\nJumat – Minggu\, 7 – 9 April 2023 | 08.30 AM \nuntuk informasi lebih lanjut dapat menghubungi :\n(021)690-9283/84 (Rika – Sekretariat Wihara)
URL:https://mahaviragrha.com/id/event/hari-besar-cheng-beng-upacara-keselamatan-ratna-kshamayati-liang-huang/
LOCATION:Wihara Mahavira Graha Pusat\, Jl. Lodan Raya No.6-B\, RT.8/RW.11\, Ancol\, Kec. Pademangan\, Jkt Utara\, Daerah Khusus Ibukota Jakarta 14430\, Jakarta Utara\, Jakarta\, 14430\, Indonesia
CATEGORIES:All,Jakarta
ATTACH;FMTTYPE=image/jpeg:https://mahaviragrha.com/wp-content/uploads/2023/03/JKT-1-scaled.jpg
ORGANIZER;CN="%E5%8D%B0%E5%B0%BC%E4%BD%9B%E6%95%99%E4%B8%AD%E5%BF%83%E5%8D%94%E6%9C%83 - Indonesian Buddhist Center Association":MAILTO:mahavira_web@yahoo.com
END:VEVENT
END:VCALENDAR