BEGIN:VCALENDAR
VERSION:2.0
PRODID:-//Mahavira - ECPv6.15.17//NONSGML v1.0//EN
CALSCALE:GREGORIAN
METHOD:PUBLISH
X-ORIGINAL-URL:https://mahaviragrha.com/id/
X-WR-CALDESC:Events for Mahavira
REFRESH-INTERVAL;VALUE=DURATION:PT1H
X-Robots-Tag:noindex
X-PUBLISHED-TTL:PT1H
BEGIN:VTIMEZONE
TZID:Asia/Jakarta
BEGIN:STANDARD
TZOFFSETFROM:+0700
TZOFFSETTO:+0700
TZNAME:WIB
DTSTART:20230101T000000
END:STANDARD
END:VTIMEZONE
BEGIN:VEVENT
DTSTART;TZID=Asia/Jakarta:20251005T093000
DTEND;TZID=Asia/Jakarta:20251005T120000
DTSTAMP:20260420T223149
CREATED:20251004T002138Z
LAST-MODIFIED:20251004T002138Z
UID:13816-1759656600-1759665600@mahaviragrha.com
SUMMARY:05 Okt 2025 - Mooncake Festival Pembacaan Bhaisajyaguru Sutra dan Dharvmadesana Online
DESCRIPTION:Hari\, Tanggal : Minggu\, 05 Okt 2025\nJam : 09.30 (Indonesia) 10.30 (Singapore)\, 07.30 PM (USA LA 04 Okt 2025)\nKegiatan : Dharma Preaching by Elders Sangha From All Overt The World \nJam  : 10.00 (Indonesia)\, 11.00 (Singapore)\, 08.00 PM (USA LA 04 Okt 2025)\nKegiatan : Dharma Blessing
URL:https://mahaviragrha.com/id/event/05-okt-2025-mooncake-festival-pembacaan-bhaisajyaguru-sutra-dan-dharvmadesana-online/
LOCATION:Jakarta
CATEGORIES:Jakarta
ATTACH;FMTTYPE=image/jpeg:https://mahaviragrha.com/wp-content/uploads/2025/10/20251005-Mooncake.jpeg
END:VEVENT
BEGIN:VEVENT
DTSTART;TZID=Asia/Jakarta:20250921T100000
DTEND;TZID=Asia/Jakarta:20250921T120000
DTSTAMP:20260420T223149
CREATED:20250919T091406Z
LAST-MODIFIED:20250919T091423Z
UID:13683-1758448800-1758456000@mahaviragrha.com
SUMMARY:21 Sep 2025 - Pelafalan Kstigarbha Bodhisattva Sutra
DESCRIPTION:Kebaktian Minggu\, 21 Sep 2025\nPukul : 10.00\nKegiatan : Pelafalan Buku Kstigarbha Bodhisattva Sutra
URL:https://mahaviragrha.com/id/event/21-sep-2025-pelafalan-kstigarbha-bodhisattva-sutra/
LOCATION:Buddhist Building Indonesia\, Jl. Lodan Raya no.6B Ancol Barat Jakut\, DKI Jakarta\, jakarta utara\, 14430\, Indonesia
CATEGORIES:All,Jakarta
ATTACH;FMTTYPE=image/jpeg:https://mahaviragrha.com/wp-content/uploads/2025/09/20250919-Kebaktian-21-Sep-2025.jpeg
END:VEVENT
BEGIN:VEVENT
DTSTART;TZID=Asia/Jakarta:20250901T170000
DTEND;TZID=Asia/Jakarta:20251004T210000
DTSTAMP:20260420T223149
CREATED:20250829T003640Z
LAST-MODIFIED:20250829T003655Z
UID:13668-1756746000-1759611600@mahaviragrha.com
SUMMARY:01-04 Sep 2025 - Bulan Bakti Ullambana Dharmadesana
DESCRIPTION:Tanggal : 01 s/d 04 September 2025\nWaktu : 17:00\nPembicara : Ven. Ming Ai (Pimpinan Taoyuan Buddhist Lotus Society)
URL:https://mahaviragrha.com/id/event/01-04-sep-2025-bulan-bakti-ullambana-dharmadesana/
LOCATION:Wihara Mahavira Graha Pusat\, Jl. Lodan Raya No.6-B\, RT.8/RW.11\, Ancol\, Kec. Pademangan\, Jkt Utara\, Daerah Khusus Ibukota Jakarta 14430\, Jakarta Utara\, Jakarta\, 14430\, Indonesia
CATEGORIES:All,Jakarta
ATTACH;FMTTYPE=image/jpeg:https://mahaviragrha.com/wp-content/uploads/2025/08/20250901-04-Bulan-Bakti-Ullambana-Dharmadesana.jpeg
END:VEVENT
BEGIN:VEVENT
DTSTART;TZID=Asia/Jakarta:20250803T093000
DTEND;TZID=Asia/Jakarta:20250803T120000
DTSTAMP:20260420T223149
CREATED:20250730T225109Z
LAST-MODIFIED:20250730T225127Z
UID:13563-1754213400-1754222400@mahaviragrha.com
SUMMARY:03 Agu 2025 - Upacara Keselamatan Online Bulanan Bernamaskara Mahakaruna Ratna Kshamayati
DESCRIPTION:Hari\, Tanggal : Minggu\, 03 Agustus 2025\nTopik : Pembabaran Dharma Online oleh Sangha\nJam : 09.30 AM (Indonesia) | 10.30 AM (Singapore) | 07.30 PM (USA LA Time\, 2 Agu 2025) \nTopik : Pemberkatan\nJam : 10.00 AM (Indonesia) | 11.00 AM (Singapore) | 08.00 PM (USA LA Time\, 2 Agu 2025)
URL:https://mahaviragrha.com/id/event/03-agu-2025-upacara-keselamatan-online-bulanan-bernamaskara-mahakaruna-ratna-kshamayati/
LOCATION:Wihara Mahavira Graha Pusat\, Jl. Lodan Raya No.6-B\, RT.8/RW.11\, Ancol\, Kec. Pademangan\, Jkt Utara\, Daerah Khusus Ibukota Jakarta 14430\, Jakarta Utara\, Jakarta\, 14430\, Indonesia
CATEGORIES:All,Jakarta
ATTACH;FMTTYPE=image/jpeg:https://mahaviragrha.com/wp-content/uploads/2025/07/20250803-Upacara-Keselamatan-Online-Bulanan.jpg
END:VEVENT
BEGIN:VEVENT
DTSTART;TZID=Asia/Jakarta:20250720T080000
DTEND;TZID=Asia/Jakarta:20250720T233000
DTSTAMP:20260420T223149
CREATED:20250414T075255Z
LAST-MODIFIED:20250712T015257Z
UID:12616-1752998400-1753054200@mahaviragrha.com
SUMMARY:Donor Darah Vihara Mahavira Graha Pusat - 20 Juli 2025
DESCRIPTION:Ayo datang dan ikuti Donor Darah Vihara Mahavira Graha Pusat: \nTanggal : 20 Juli 2025 \nJam : 08.00 – 11.30 WIB \nLokasi : Lt 3 Belakang
URL:https://mahaviragrha.com/id/event/donor-darah-vihara-mahavira-graha-pusat-20-april-2025/
LOCATION:Wihara Mahavira Graha Pusat\, Jl. Lodan Raya No.6-B\, RT.8/RW.11\, Ancol\, Kec. Pademangan\, Jkt Utara\, Daerah Khusus Ibukota Jakarta 14430\, Jakarta Utara\, Jakarta\, 14430\, Indonesia
CATEGORIES:All,Jakarta
END:VEVENT
BEGIN:VEVENT
DTSTART;TZID=Asia/Jakarta:20250713T093000
DTEND;TZID=Asia/Jakarta:20250713T170000
DTSTAMP:20260420T223149
CREATED:20250712T091247Z
LAST-MODIFIED:20250712T091247Z
UID:13551-1752399000-1752426000@mahaviragrha.com
SUMMARY:Dharma Desana Online dan Avatamsaka Sutra - Minggu 13 Juli 2025
DESCRIPTION:Topik : Dharmadesana Online & Avatamsaka Sutra Bab Maha Aspirasi Samantabhadra Bodhisatva\nHari dan Tanggal : Minggu\, 13 Juli 2025\nWaktu : 09.30 AM (Indonesia) | 10.30 AM (Singapore) | 07.30 PM (USA Los Angeles 12 Juli 2025) \nTopik : Pemberkatan Dharma\nWaktu : 10.00 AM (Indonesia) | 11.00 AM (Singapore) | 08.00 PM (USA Los Angeles 12 Juli 2025)
URL:https://mahaviragrha.com/id/event/dharma-desana-online-dan-avatamsaka-sutra-minggu-13-juli-2025/
LOCATION:Wihara Mahavira Graha Pusat\, Jl. Lodan Raya No.6-B\, RT.8/RW.11\, Ancol\, Kec. Pademangan\, Jkt Utara\, Daerah Khusus Ibukota Jakarta 14430\, Jakarta Utara\, Jakarta\, 14430\, Indonesia
CATEGORIES:All,Jakarta
ATTACH;FMTTYPE=image/jpeg:https://mahaviragrha.com/wp-content/uploads/2025/07/20250712-Dharma-Desana-Online-dan-Avatamsaka-Sutra.jpeg
END:VEVENT
BEGIN:VEVENT
DTSTART;TZID=Asia/Jakarta:20250706T093000
DTEND;TZID=Asia/Jakarta:20250706T093000
DTSTAMP:20260420T223149
CREATED:20250704T181957Z
LAST-MODIFIED:20250704T181957Z
UID:13542-1751794200-1751794200@mahaviragrha.com
SUMMARY:06 July 2025 - Grand Dharma Talk with Venerable Master Hui Lv - Day 3
DESCRIPTION:Day and Date : Sunday\, 06 July 2025 \nTime : 09.30 AM (Indonesia Time) | 10.30 AM (Singapore Time) | 07.30 PM (USA LA. Time 05 July 2025) \nTopic : Treasury of the True Dharma Eye III
URL:https://mahaviragrha.com/id/event/06-july-2025-grand-dharma-talk-with-venerable-master-hui-lv-day-3/
LOCATION:Beeh Low See Temple\, Singapore
CATEGORIES:All,Singapore
ATTACH;FMTTYPE=image/jpeg:https://mahaviragrha.com/wp-content/uploads/2025/07/20250706-93-Annivesary-of-Singapore-Beeh-Low-See-Monastary-Day-3.jpeg
END:VEVENT
BEGIN:VEVENT
DTSTART;TZID=Asia/Jakarta:20250629T093000
DTEND;TZID=Asia/Jakarta:20250629T123000
DTSTAMP:20260420T223149
CREATED:20250628T023848Z
LAST-MODIFIED:20250628T023848Z
UID:13531-1751189400-1751200200@mahaviragrha.com
SUMMARY:29 June 2025 - Grand Dharma Talk with Venerable Master Hui Lv
DESCRIPTION:Day and Date : Sunday\, 29 June 2025\nTime : 09.30 AM (Indonesia) | 10.30 AM (Singapore) | 07.30 PM (USA Los Angeles 28 June 2025)
URL:https://mahaviragrha.com/id/event/29-june-2025-grand-dharma-talk-with-venerable-master-hui-lv/
LOCATION:Beeh Low See Temple\, Singapore
CATEGORIES:All,Singapore
ATTACH;FMTTYPE=image/jpeg:https://mahaviragrha.com/wp-content/uploads/2025/06/20250629-93-Annivesary-of-Singapore-Beeh-Low-See-Monastary.jpeg
END:VEVENT
BEGIN:VEVENT
DTSTART;TZID=Asia/Jakarta:20250628T080000
DTEND;TZID=Asia/Jakarta:20250628T120000
DTSTAMP:20260420T223149
CREATED:20250626T020703Z
LAST-MODIFIED:20250626T020703Z
UID:13515-1751097600-1751112000@mahaviragrha.com
SUMMARY:28 Juni 2025 - Dharmadesana Menemukan Kedamaian di dalam Pengembagan Bodhicitta dan Kebijaksanaan di Kehidupan Digital
DESCRIPTION:Harga\, Tanggal : Sabtu\, 28 Juni 2025 \nPembicara : Venerable Wuyuan (Vihara Jingjue Guangde\, Taiwan) \nJam : 8:00 \nLokasi : Buddhist Building Indonesia
URL:https://mahaviragrha.com/id/event/28-juni-2025-dharmadesana-menemukan-kedamaian-di-dalam-pengembagan-bodhicitta-dan-kebijaksanaan-di-kehidupan-digital/
LOCATION:Wihara Mahavira Graha Pusat\, Jl. Lodan Raya No.6-B\, RT.8/RW.11\, Ancol\, Kec. Pademangan\, Jkt Utara\, Daerah Khusus Ibukota Jakarta 14430\, Jakarta Utara\, Jakarta\, 14430\, Indonesia
CATEGORIES:All,Jakarta
ATTACH;FMTTYPE=image/jpeg:https://mahaviragrha.com/wp-content/uploads/2025/06/20250628-Dharmadhesana.jpeg
END:VEVENT
BEGIN:VEVENT
DTSTART;VALUE=DATE:20250627
DTEND;VALUE=DATE:20250630
DTSTAMP:20260420T223149
CREATED:20250526T011350Z
LAST-MODIFIED:20250526T011457Z
UID:13492-1750982400-1751241599@mahaviragrha.com
SUMMARY:Atthasila Muda/i\, Remaja dan Sekolah Minggu 27-29 Juni 2025
DESCRIPTION:Amithofo🙏 \nKami dari pengurus sekolah minggu\, remaja\, dan muda mudi Vihara Mahavira Graha Pusat mengadakan acara “ATTHASILA with KRVMGP” -YOUNG HEART\, ENDLESS WISDOM- Tujuan dari acara ini yaitu untuk melatih hati\, pikiran\, kesadaran dan kontrol diri serta etika dan sila dalam Agama Buddha. Dan di akhir acara kita juga akan mengadakan outing bersama untuk membentuk karakter\, membangun kerja sama dan\, keberanian kepada anak-anak. \nAcara akan diselenggarakan pada:\n📌 27 Juni 2025\n– Pendaftaran Ulang\n– Upacara Pensakralan Mandala \n📌 28 Juni 2025 – Atthasila\n📌 29 Juni 2025 – Outing (setelah selesai kegiatan Atthasila) \n📍Vihara Mahavira Graha Pusat\, Ancol \nPendaftaran telah dibuka hari ini dan diharapkan untuk mendaftarkan diri terlebih dahulu ke contact person yang tertera di poster. \nJika ada info lebih lanjut yang ingin ditanyakan bisa menghubungi nomor dibawah ini yaa😊 \nErwin (087868885252)\nCherline (087782546486)\nJanice (089630497191) Eksternal
URL:https://mahaviragrha.com/id/event/atthasila-muda-i-remaja-dan-sekolah-minggu-27-29-juni-2025/
LOCATION:Wihara Mahavira Graha Pusat\, Jl. Lodan Raya No.6-B\, RT.8/RW.11\, Ancol\, Kec. Pademangan\, Jkt Utara\, Daerah Khusus Ibukota Jakarta 14430\, Jakarta Utara\, Jakarta\, 14430\, Indonesia
CATEGORIES:All,Jakarta
ATTACH;FMTTYPE=image/jpeg:https://mahaviragrha.com/wp-content/uploads/2025/05/20250526-Atthasila-27-29-Jun-2025.jpeg
END:VEVENT
BEGIN:VEVENT
DTSTART;TZID=Asia/Jakarta:20250622T103000
DTEND;TZID=Asia/Jakarta:20250622T123000
DTSTAMP:20260420T223149
CREATED:20250621T070907Z
LAST-MODIFIED:20250621T070907Z
UID:13511-1750588200-1750595400@mahaviragrha.com
SUMMARY:93rd Anniversay of Singapore Beeh Low See Monastery
DESCRIPTION:Grand Dharma Talk with Venerable Master Hui Lv – Day 1 \nTopic : Treasury of the True Dharma Eye III \nDay and Date : Sunday\, 22 June 2025\nTime : 10.30 AM (SG Time) | 9.30 AM (Indonesia Time) | 07.30 PM (USA LA 21 Jun 2025)
URL:https://mahaviragrha.com/id/event/93rd-anniversay-of-singapore-beeh-low-see-monastery/
LOCATION:Jakarta
CATEGORIES:All,Singapore
ATTACH;FMTTYPE=image/jpeg:https://mahaviragrha.com/wp-content/uploads/2025/06/20250622-Peringatan-Singapore-Beeh-Low-See-Monastery.jpeg
END:VEVENT
BEGIN:VEVENT
DTSTART;TZID=Asia/Jakarta:20250615T100000
DTEND;TZID=Asia/Jakarta:20250615T120000
DTSTAMP:20260420T223149
CREATED:20250503T044626Z
LAST-MODIFIED:20250503T044638Z
UID:13475-1749981600-1749988800@mahaviragrha.com
SUMMARY:Refuge Taking Ceromony - 15 June 2025
DESCRIPTION:In Buddhist practice\, the taking refuge ceremony\, also known as the refuge vow ceremony\, is a formal commitment where individuals express their faith and commitment to the Buddha\, the Dharma\, and the Sangha. \nOur temple are organising a Buddhist refuge taking ceremonty as below. \nDate : 15 June 2025\nTime : 10.00 am\nLocation : Beeh Low See Temple \nPlease register with the office during the office hours.
URL:https://mahaviragrha.com/id/event/refuge-taking-ceromony-15-june-2025/
LOCATION:Beeh Low See Temple\, Singapore
CATEGORIES:All,Singapore
ATTACH;FMTTYPE=image/jpeg:https://mahaviragrha.com/wp-content/uploads/2025/05/20250503-Refuge-Taking-Ceremony.jpeg
END:VEVENT
BEGIN:VEVENT
DTSTART;TZID=Asia/Jakarta:20250612T080000
DTEND;TZID=Asia/Jakarta:20250616T170000
DTSTAMP:20260420T223149
CREATED:20250503T044209Z
LAST-MODIFIED:20250503T044231Z
UID:13469-1749715200-1750093200@mahaviragrha.com
SUMMARY:Dharma Talk @Singapore Expo - 12-14 June 2025
DESCRIPTION:Beeh Low See Temple is organising a Dharma  Talk at Singapore Expo and has cordially invite Most Venerable Hui Lu to spread the Dharma. Free adminission all are welcome. \nDate : 12 – 16 June 2025\nTime : 07.00 pm – 09.00 pm\nLocation : Singapore Expo Hall 3 and 4A \nYou can obtain entry ticket from the temple or online scan. E-Ticket will sent to you via email.\nAdmission open : 09 Mei 2025 10.00am – 04.00pm
URL:https://mahaviragrha.com/id/event/dharma-talk-singapore-expo-12-14-june-2025/
LOCATION:Beeh Low See Temple\, Singapore
CATEGORIES:All,Singapore
ATTACH;FMTTYPE=image/jpeg:https://mahaviragrha.com/wp-content/uploads/2025/05/20250503-DharmaTalk-SGD.jpeg
END:VEVENT
BEGIN:VEVENT
DTSTART;TZID=Asia/Jakarta:20250511T083000
DTEND;TZID=Asia/Jakarta:20250511T130000
DTSTAMP:20260420T223149
CREATED:20250503T012110Z
LAST-MODIFIED:20250503T012243Z
UID:13449-1746952200-1746968400@mahaviragrha.com
SUMMARY:Peringatan Waisak 2569 B.E - 11 Mei 2025
DESCRIPTION:Peringatan Waisak 2569 B.E – 11 Mei 2025 \n08.30 AM – Pradaksina Puja Relik Buddha \n09.30 AM – Perayaan Kesenian Waisak \n11:30 AM – Berkah Keselataman Bernamaskara Sapta Buddha Ratna Kshamayati \nWihara mengadakan pemasangan Pelita Keselataman Waisak dari 11-13 Mei 2025\, info lebih lanjut dapat menghubungi 081295018823 (Suhu Chuan Su) / 021-6909283/84 (Rika)
URL:https://mahaviragrha.com/id/event/peringatan-waisak-2569-b-e-11-mei-2025/
LOCATION:Wihara Mahavira Graha Pusat\, Jl. Lodan Raya No.6-B\, RT.8/RW.11\, Ancol\, Kec. Pademangan\, Jkt Utara\, Daerah Khusus Ibukota Jakarta 14430\, Jakarta Utara\, Jakarta\, 14430\, Indonesia
CATEGORIES:All,Jakarta
ATTACH;FMTTYPE=image/jpeg:https://mahaviragrha.com/wp-content/uploads/2025/05/20250503-Pemandian-Rupang.jpg
END:VEVENT
BEGIN:VEVENT
DTSTART;TZID=Asia/Jakarta:20250505T103000
DTEND;TZID=Asia/Jakarta:20250505T113000
DTSTAMP:20260420T223149
CREATED:20250503T011732Z
LAST-MODIFIED:20250503T011739Z
UID:13440-1746441000-1746444600@mahaviragrha.com
SUMMARY:Pemandian Siddharta Gautama - 5 Mei 2025
DESCRIPTION:Pemandian Siddharta Gautama serta pembacaan Sutra Pahala Pemandian Buddha \nTanggal : 5 Mei 2025 \nJam : 10.30
URL:https://mahaviragrha.com/id/event/pemandian-siddharta-gautama-5-mei-2025/
LOCATION:Wihara Mahavira Graha Pusat\, Jl. Lodan Raya No.6-B\, RT.8/RW.11\, Ancol\, Kec. Pademangan\, Jkt Utara\, Daerah Khusus Ibukota Jakarta 14430\, Jakarta Utara\, Jakarta\, 14430\, Indonesia
CATEGORIES:All,Jakarta
ATTACH;FMTTYPE=image/jpeg:https://mahaviragrha.com/wp-content/uploads/2025/05/20250503-Pemandian-Rupang.jpg
END:VEVENT
BEGIN:VEVENT
DTSTART;TZID=Asia/Jakarta:20250504T173000
DTEND;TZID=Asia/Jakarta:20250512T120000
DTSTAMP:20260420T223149
CREATED:20250428T082820Z
LAST-MODIFIED:20250428T082920Z
UID:13245-1746379800-1747051200@mahaviragrha.com
SUMMARY:Wihara Purva Vaidurya Kalbar- Perayaan Hari Waisak 2025 
DESCRIPTION:Wihara Purva Vaidurya Kalbar- Perayaan Hari Waisak 2025 
URL:https://mahaviragrha.com/id/event/kalimantan-2025-05-04-wihara-purva-vaidurya-kalbar-perayaan-hari-waisak-2025-13245/
LOCATION:Wihara Purva Vaidurya – Mahavira Grha Buddhist Center Kalbar\, Jl. A. Yani II - Supadio\, Desa Limbung\, Kec. Sungai Raya\, Kab. Kubu Raya Pontianak - Kalimantan Barat\, Pontianak\, West Kalimantan\, 78391\, Indonesia
CATEGORIES:Kalimantan
ATTACH;FMTTYPE=image/jpeg:https://mahaviragrha.com/wp-content/uploads/2025/04/WhatsApp-Image-2025-04-28-at-08.57.33.jpeg
ORGANIZER;CN="%E5%8D%B0%E5%B0%BC%E4%BD%9B%E6%95%99%E4%B8%AD%E5%BF%83%E5%8D%94%E6%9C%83 - Indonesian Buddhist Center Association":MAILTO:mahavira_web@yahoo.com
END:VEVENT
BEGIN:VEVENT
DTSTART;TZID=Asia/Jakarta:20250504T093000
DTEND;TZID=Asia/Jakarta:20250504T100000
DTSTAMP:20260420T223149
CREATED:20250503T011439Z
LAST-MODIFIED:20250503T011448Z
UID:13431-1746351000-1746352800@mahaviragrha.com
SUMMARY:Dharmadesana dan Kebaktian Online Pembacaan Vajracchedika Prajnaparamita Sutra - 04 Mei 2025
DESCRIPTION:Dharmadesana dan Kebaktian Online Pembacaan Vajracchedika Prajnaparamita Sutra \nTanggal : 04 Mei 2025 \nJam : 09.30 (Indonesia) / 10.30 (SG Time) / 07.30 PM (USA LA Time)
URL:https://mahaviragrha.com/id/event/dharmadesana-dan-kebaktian-online-pembacaan-vajracchedika-prajnaparamita-sutra-04-mei-2025/
LOCATION:Wihara Mahavira Graha Pusat\, Jl. Lodan Raya No.6-B\, RT.8/RW.11\, Ancol\, Kec. Pademangan\, Jkt Utara\, Daerah Khusus Ibukota Jakarta 14430\, Jakarta Utara\, Jakarta\, 14430\, Indonesia
CATEGORIES:All,Jakarta
ATTACH;FMTTYPE=image/jpeg:https://mahaviragrha.com/wp-content/uploads/2025/05/20250503-Dharmadesana.jpeg
END:VEVENT
BEGIN:VEVENT
DTSTART;TZID=Asia/Jakarta:20250426T170000
DTEND;TZID=Asia/Jakarta:20250426T190000
DTSTAMP:20260420T223149
CREATED:20250424T005625Z
LAST-MODIFIED:20250424T005907Z
UID:13062-1745686800-1745694000@mahaviragrha.com
SUMMARY:Upacara Pelimpahan Jasa Gan Lu Fa Shi - 26 April 2025
DESCRIPTION:
URL:https://mahaviragrha.com/id/event/upacara-pelimpahan-jasa-gan-lu-fa-shi-26-april-2025/
LOCATION:Wihara Mahavira Graha Pusat\, Jl. Lodan Raya No.6-B\, RT.8/RW.11\, Ancol\, Kec. Pademangan\, Jkt Utara\, Daerah Khusus Ibukota Jakarta 14430\, Jakarta Utara\, Jakarta\, 14430\, Indonesia
CATEGORIES:All,Jakarta
ATTACH;FMTTYPE=image/jpeg:https://mahaviragrha.com/wp-content/uploads/2025/04/20250424-Liang-Huang.jpg
END:VEVENT
BEGIN:VEVENT
DTSTART;TZID=Asia/Jakarta:20250425T083000
DTEND;TZID=Asia/Jakarta:20250427T170000
DTSTAMP:20260420T223149
CREATED:20250424T005500Z
LAST-MODIFIED:20250424T005500Z
UID:13053-1745569800-1745773200@mahaviragrha.com
SUMMARY:Hari Besar Cheng Beng - Upacara Keselamatan Ratna Kshamayati - 25 s/d 27 Apr 2025 (08.30 AM)
DESCRIPTION:Hari Besar Cheng Beng\nUpacara Keselataman Ratna Kshamayati\nLiang Huang \nTanggal : 25- 27 April 2025\nJam : 08.30 AM
URL:https://mahaviragrha.com/id/event/hari-besar-cheng-beng-upacara-keselamatan-ratna-kshamayati-25-s-d-27-apr-2025-08-30-am/
LOCATION:Wihara Mahavira Graha Pusat\, Jl. Lodan Raya No.6-B\, RT.8/RW.11\, Ancol\, Kec. Pademangan\, Jkt Utara\, Daerah Khusus Ibukota Jakarta 14430\, Jakarta Utara\, Jakarta\, 14430\, Indonesia
CATEGORIES:All,Jakarta
ATTACH;FMTTYPE=image/jpeg:https://mahaviragrha.com/wp-content/uploads/2025/04/20250424-Liang-Huang.jpg
END:VEVENT
BEGIN:VEVENT
DTSTART;TZID=Asia/Jakarta:20250418T170000
DTEND;TZID=Asia/Jakarta:20250424T190000
DTSTAMP:20260420T223149
CREATED:20250424T005818Z
LAST-MODIFIED:20250424T005818Z
UID:13064-1744995600-1745521200@mahaviragrha.com
SUMMARY:Pembacaan Saddharma Pundarika Sutra - 18 s/d 24 April 2025 Jam 17:00 PM
DESCRIPTION:
URL:https://mahaviragrha.com/id/event/pembacaan-saddharma-pundarika-sutra-18-s-d-24-april-2025-jam-1700-pm/
LOCATION:Wihara Mahavira Graha Pusat\, Jl. Lodan Raya No.6-B\, RT.8/RW.11\, Ancol\, Kec. Pademangan\, Jkt Utara\, Daerah Khusus Ibukota Jakarta 14430\, Jakarta Utara\, Jakarta\, 14430\, Indonesia
CATEGORIES:All,Jakarta
ATTACH;FMTTYPE=image/jpeg:https://mahaviragrha.com/wp-content/uploads/2025/04/20250424-Liang-Huang.jpg
END:VEVENT
BEGIN:VEVENT
DTSTART;TZID=Asia/Jakarta:20250410T173000
DTEND;TZID=Asia/Jakarta:20250413T090000
DTSTAMP:20260420T223149
CREATED:20250402T074343Z
LAST-MODIFIED:20250409T012555Z
UID:12143-1744306200-1744534800@mahaviragrha.com
SUMMARY:Vihara Purva Vaydurya- Mahavira Graha Buddhist Cetre Kalbar Upacara Balas Budi Jasa Memperingati  Hari Ceng Beng
DESCRIPTION:Vihara Purva Vaydurya- Mahavira Graha Buddhist Cetre Kalbar Upacara Balas Budi Jasa Memperingati Hari Ceng Beng
URL:https://mahaviragrha.com/id/event/vihara-purva-vaydurya-mahavira-graha-buddhist-cetre-kalbar-upacara-balas-budi-jasa-memperingati-hari-ceng-beng/
LOCATION:Wihara Purva Vaidurya – Mahavira Grha Buddhist Center Kalbar\, Jl. A. Yani II - Supadio\, Desa Limbung\, Kec. Sungai Raya\, Kab. Kubu Raya Pontianak - Kalimantan Barat\, Pontianak\, West Kalimantan\, 78391\, Indonesia
CATEGORIES:All,Kalimantan
ATTACH;FMTTYPE=image/jpeg:https://mahaviragrha.com/wp-content/uploads/2025/04/WhatsApp-Image-2025-04-09-at-02.09.17-1.jpeg
ORGANIZER;CN="%E5%8D%B0%E5%B0%BC%E4%BD%9B%E6%95%99%E4%B8%AD%E5%BF%83%E5%8D%94%E6%9C%83 - Indonesian Buddhist Center Association":MAILTO:mahavira_web@yahoo.com
END:VEVENT
BEGIN:VEVENT
DTSTART;TZID=Asia/Jakarta:20250318T173000
DTEND;TZID=Asia/Jakarta:20250320T173000
DTSTAMP:20260420T223149
CREATED:20250308T062152Z
LAST-MODIFIED:20250311T034928Z
UID:11261-1742319000-1742491800@mahaviragrha.com
SUMMARY:Wihara Purva Vaydurya Kalimantan-Memperingati Hari Besar Avalokitesvara Bodhisattva
DESCRIPTION:Memperingati Hari Besar Avalokitesvara Bodhisattva  yang dilaksanakan pada 18-03-2025 – 20-03-2025  di Wihara Purva Vaydurya Kalimantan Barat
URL:https://mahaviragrha.com/id/event/2025-03-18-kalimantan-barat-memperingati-hari-besar-avalokitesvara-bodhisattva/
LOCATION:Wihara Purva Vaidurya – Mahavira Grha Buddhist Center Kalbar\, Jl. A. Yani II - Supadio\, Desa Limbung\, Kec. Sungai Raya\, Kab. Kubu Raya Pontianak - Kalimantan Barat\, Pontianak\, West Kalimantan\, 78391\, Indonesia
CATEGORIES:All,Kalimantan
ATTACH;FMTTYPE=image/jpeg:https://mahaviragrha.com/wp-content/uploads/2025/03/EVENT-KELAHIRAN-KWAN-IM-PHUSA.jpeg
ORGANIZER;CN="%E5%8D%B0%E5%B0%BC%E4%BD%9B%E6%95%99%E4%B8%AD%E5%BF%83%E5%8D%94%E6%9C%83 - Indonesian Buddhist Center Association":MAILTO:mahavira_web@yahoo.com
END:VEVENT
BEGIN:VEVENT
DTSTART;TZID=Asia/Jakarta:20250317T110000
DTEND;TZID=Asia/Jakarta:20250318T110000
DTSTAMP:20260420T223149
CREATED:20250310T073420Z
LAST-MODIFIED:20250310T091718Z
UID:11351-1742209200-1742295600@mahaviragrha.com
SUMMARY:Wihara Mahavira Graha Surabaya-Peringatan Hari Besar Avalokitesvara Bodhisattva
DESCRIPTION:Peringatan Hari Besar Avalokitesvara Bodhisattva yang dilaksanakan pada 17-03-2025 – 18-03-2025 di Vihara Mahavira Graha Surabaya.
URL:https://mahaviragrha.com/id/event/surabaya-2025-03-peringatan-hari-besar-avalokitesvara-bodhisattva-yang-dilaksanakan-pada-17-03-2025-18-03-2025-di-vihara-mahavira-graha-surabaya/
LOCATION:Wihara Mahavira Graha Surabaya
CATEGORIES:All,Surabaya
ATTACH;FMTTYPE=image/jpeg:https://mahaviragrha.com/wp-content/uploads/2025/03/SBY-scaled.jpg
ORGANIZER;CN="%E5%8D%B0%E5%B0%BC%E4%BD%9B%E6%95%99%E4%B8%AD%E5%BF%83%E5%8D%94%E6%9C%83 - Indonesian Buddhist Center Association":MAILTO:mahavira_web@yahoo.com
END:VEVENT
BEGIN:VEVENT
DTSTART;TZID=Asia/Jakarta:20250316T093000
DTEND;TZID=Asia/Jakarta:20250316T130000
DTSTAMP:20260420T223149
CREATED:20250313T032108Z
LAST-MODIFIED:20250315T103609Z
UID:11540-1742117400-1742130000@mahaviragrha.com
SUMMARY:Wihara Mahavira Graha Pusat - Dharmadesana Online dan Upacara Keselamatan Bernamaskara Maitrikaruna Shuranggama Ratna Kshamayati - 16 Maret 2025
DESCRIPTION:Wihara Mahavira Graha Pusat – Dharmadesana Online dan Upacara Keselamatan Bernamaskara Maitrikaruna Shuranggama Ratna Kshamayati – 16 Maret 2025
URL:https://mahaviragrha.com/id/event/wihara-mahavira-graha-pusat-dharmadesana-online-dan-upacara-keselamatan-bernamaskara-maitrikaruna-shuranggama-ratna-kshamayati-16-maret-2025/
LOCATION:Wihara Mahavira Graha Pusat\, Jl. Lodan Raya No.6-B\, RT.8/RW.11\, Ancol\, Kec. Pademangan\, Jkt Utara\, Daerah Khusus Ibukota Jakarta 14430\, Jakarta Utara\, Jakarta\, 14430\, Indonesia
CATEGORIES:All,Jakarta
ATTACH;FMTTYPE=image/jpeg:https://mahaviragrha.com/wp-content/uploads/2025/03/20250313-Dharmadesana-Online-dan-Upacara-Keselamatan2.jpg
ORGANIZER;CN="%E5%8D%B0%E5%B0%BC%E4%BD%9B%E6%95%99%E4%B8%AD%E5%BF%83%E5%8D%94%E6%9C%83 - Indonesian Buddhist Center Association":MAILTO:mahavira_web@yahoo.com
END:VEVENT
BEGIN:VEVENT
DTSTART;TZID=Asia/Jakarta:20250316T050000
DTEND;TZID=Asia/Jakarta:20250318T170000
DTSTAMP:20260420T223149
CREATED:20250309T044528Z
LAST-MODIFIED:20250310T091245Z
UID:11289-1742101200-1742317200@mahaviragrha.com
SUMMARY:Wihara Mahavira Graha Pusat-Peringatan Hari Besar Avalokitesvara Bodhisattva
DESCRIPTION:Peringatan Hari Besar Avalokitesvara Bodhisattva  yang dilaksanakan pada 16- 03-2025 – 18-03-2025 di Vihara Mahavira Graha Pusat Jakarta
URL:https://mahaviragrha.com/id/event/2025-03-16-jakarta-peringatan-hari-besar-avalokitesvara-bodhisattva/
LOCATION:Wihara Mahavira Graha Pusat\, Jl. Lodan Raya No.6-B\, RT.8/RW.11\, Ancol\, Kec. Pademangan\, Jkt Utara\, Daerah Khusus Ibukota Jakarta 14430\, Jakarta Utara\, Jakarta\, 14430\, Indonesia
CATEGORIES:All,Jakarta
ATTACH;FMTTYPE=image/jpeg:https://mahaviragrha.com/wp-content/uploads/2025/03/JKT-scaled.jpg
ORGANIZER;CN="%E5%8D%B0%E5%B0%BC%E4%BD%9B%E6%95%99%E4%B8%AD%E5%BF%83%E5%8D%94%E6%9C%83 - Indonesian Buddhist Center Association":MAILTO:mahavira_web@yahoo.com
END:VEVENT
BEGIN:VEVENT
DTSTART;TZID=Asia/Jakarta:20250212T180000
DTEND;TZID=Asia/Jakarta:20250212T233000
DTSTAMP:20260420T223149
CREATED:20250201T142813Z
LAST-MODIFIED:20250201T145238Z
UID:11069-1739383200-1739403000@mahaviragrha.com
SUMMARY:Doa Keselamatan Malam Kesenian CAPGOMEH
DESCRIPTION:
URL:https://mahaviragrha.com/id/event/doa-keselamatan-malam-kesenian-capgomeh/
LOCATION:Wihara Mahavira Graha Pusat\, Jl. Lodan Raya No.6-B\, RT.8/RW.11\, Ancol\, Kec. Pademangan\, Jkt Utara\, Daerah Khusus Ibukota Jakarta 14430\, Jakarta Utara\, Jakarta\, 14430\, Indonesia
CATEGORIES:All,Jakarta
ATTACH;FMTTYPE=image/jpeg:https://mahaviragrha.com/wp-content/uploads/2025/02/2025-02-01-Cap-Go-Meh1.jpg
END:VEVENT
BEGIN:VEVENT
DTSTART;TZID=Asia/Jakarta:20250125T140000
DTEND;TZID=Asia/Jakarta:20250212T180000
DTSTAMP:20260420T223149
CREATED:20250125T091747Z
LAST-MODIFIED:20250308T045035Z
UID:11083-1737813600-1739383200@mahaviragrha.com
SUMMARY:JADWAL KEGIATAN BULAN IMLEK 2569 B.E / 2025
DESCRIPTION:
URL:https://mahaviragrha.com/id/event/2025-01-25-jakarta-jadwal-bulan-imlek-2569-b-e/
LOCATION:Wihara Mahavira Graha Pusat\, Jl. Lodan Raya No.6-B\, RT.8/RW.11\, Ancol\, Kec. Pademangan\, Jkt Utara\, Daerah Khusus Ibukota Jakarta 14430\, Jakarta Utara\, Jakarta\, 14430\, Indonesia
CATEGORIES:Jakarta
ATTACH;FMTTYPE=image/jpeg:https://mahaviragrha.com/wp-content/uploads/2025/02/WhatsApp-Image-2025-02-22-at-09.16.19.jpeg
ORGANIZER;CN="%E5%8D%B0%E5%B0%BC%E4%BD%9B%E6%95%99%E4%B8%AD%E5%BF%83%E5%8D%94%E6%9C%83 - Indonesian Buddhist Center Association":MAILTO:mahavira_web@yahoo.com
END:VEVENT
BEGIN:VEVENT
DTSTART;TZID=Asia/Jakarta:20241217T093000
DTEND;TZID=Asia/Jakarta:20241217T233000
DTSTAMP:20260420T223149
CREATED:20241216T000158Z
LAST-MODIFIED:20241216T000317Z
UID:11053-1734427800-1734478200@mahaviragrha.com
SUMMARY:Berkah Keselamatan Dharmadesana Online Merayakan Hari Besar Amitabha Buddha Mengagungkan Ksetra - Parisuddhi Ratna Kshamayati
DESCRIPTION:Khotbah dharma oleh para sesepuh sangha dari seluruh dunia.\nPada Hari Selasa\, 17 Desember 2024\n09.30 AM (Waktu Indonesia)\n10.30 AM (Waktu Singapore)\n16 Des 2024\, 06.30 (Waktu Ameraka Serikat\, Los Angeles) \nPemberkatan dharma dimulai\n10.00 AM (Waktu Indonesia)\n11.00 AM (Waktu Singapore)\n16 Des 2024\, 07.00 (Waktu Ameraka Serikat\, Los Angeles)
URL:https://mahaviragrha.com/id/event/berkah-keselamatan-dharmadesana-online-merayakan-hari-besar-amitabha-buddha-mengagungkan-ksetra-parisuddhi-ratna-kshamayati/
LOCATION:Jakarta
CATEGORIES:All
ATTACH;FMTTYPE=image/jpeg:https://mahaviragrha.com/wp-content/uploads/2024/12/2024-12-16.jpeg
END:VEVENT
BEGIN:VEVENT
DTSTART;TZID=Asia/Jakarta:20241213T080000
DTEND;TZID=Asia/Jakarta:20241215T210000
DTSTAMP:20260420T223149
CREATED:20241130T144948Z
LAST-MODIFIED:20241130T150052Z
UID:11039-1734076800-1734296400@mahaviragrha.com
SUMMARY:Upacara Memperingati Hari Berdirinya MahakarunaBuddhist Centre Medan Ke-20 Th
DESCRIPTION:
URL:https://mahaviragrha.com/id/event/upacara-memperingati-hari-berdirinya-mahakarunabuddhist-centre-medan-ke-20-th/
LOCATION:Mahakaruna Buddhist Center Medan\, Komplek Cemara Abadi Jl. Haji Anif Simpang BW\, Medan Estate\, Kec. Percut Sei Tuan\, Kabupaten Deli Serdang\, Sumatera Utara 20372\, Medan Estate\, Kec. Percut Sei Tuan\, Kabupaten Deli Serdang\,\, Sumatera Utara\, 20372\, Indonesia
CATEGORIES:All,Medan
ATTACH;FMTTYPE=image/jpeg:https://mahaviragrha.com/wp-content/uploads/2024/11/photo_2024-11-04_21-02-26.jpg
END:VEVENT
BEGIN:VEVENT
DTSTART;TZID=Asia/Jakarta:20241201T093000
DTEND;TZID=Asia/Jakarta:20241201T123000
DTSTAMP:20260420T223149
CREATED:20241129T003152Z
LAST-MODIFIED:20241129T003407Z
UID:11029-1733045400-1733056200@mahaviragrha.com
SUMMARY:Dharmadesana Online Upacara Berkah Pembacaan Avatamsaka Sutra bab Aspirasi Samantabhadra Bodhisattva
DESCRIPTION:Diadakan pada tanggal 01 Desember 2024 (Minggu)  \nPembabaran dharma oleh Sangha dari berbagai negara :\n09.30 AM (Waktu Indonesia)\n10.30 AM (Waktu Singapore)\n30 November 2024 – 06.30 PM (Waktu Amerika) \nPemberkatan Dharma dimulai :\n10.00 AM (Waktu Indonesia)\n11.00 AM (Waktu Singapore)\n30 November 2024 – 07.00 PM (Waktu Amerika)
URL:https://mahaviragrha.com/id/event/dharmadesana-online-upacara-berkah-pembacaan-avatamsaka-sutra-bab-aspirasi-samantabhadra-bodhisattva/
LOCATION:Jakarta
CATEGORIES:All
ATTACH;FMTTYPE=image/jpeg:https://mahaviragrha.com/wp-content/uploads/2024/11/2024-12-01.jpg
END:VEVENT
END:VCALENDAR